Workbook

Sheet Журнал
A1: ЖУРНАЛ нейтрализации сточных вод/лабораторных растворов (подготовка к водоотведению)
A2: Заполняется по Правилам № 644, ПП № 728 (анализ проб – только аккредитованная лаборатория), требованиям СМ/СОП
A3: № п/п | B3: Дата | C3: Время | D3: Подразделение / место образования | E3: Исходный раствор: наименование и источник процесса | F3: Код ФККО (если применимо) | G3: Объём, л | H3: pH до | I3: Запрещённые вещества (Да/Нет) | J3: Перечень запрещённых веществ (если есть) | K3: Реагент нейтрализации | L3: Количество реагента (ед.) | M3: Охлаждение применялось (Да/Нет) | N3: Метод (дозирование/перемешивание и пр.) | O3: Время нейтрализации, мин | P3: pH после | Q3: Соответствие pH (Да/Нет) | R3: Точка сброса/узел контроля | S3: Договор водоотведения (№, дата) | T3: Номер пробы | U3: Протокол анализа (№, дата, ИЛ) | V3: Исполнитель (ФИО) | W3: Контролёр/ответственный (ФИО) | X3: Подпись исполнителя | Y3: Подпись контролёра | Z3: Примечание
Q4: =IF(AND(P4>=#REF!,P4<=#REF!),"Да","Нет") -> #REF!
Q5: =IF(AND(P5>=#REF!,P5<=#REF!),"Да","Нет") -> #REF!
Q6: =IF(AND(P6>=#REF!,P6<=#REF!),"Да","Нет") -> #REF!
Q7: =IF(AND(P7>=#REF!,P7<=#REF!),"Да","Нет") -> #REF!
Q8: =IF(AND(P8>=#REF!,P8<=#REF!),"Да","Нет") -> #REF!
Q9: =IF(AND(P9>=#REF!,P9<=#REF!),"Да","Нет") -> #REF!
Q10: =IF(AND(P10>=#REF!,P10<=#REF!),"Да","Нет") -> #REF!
Q11: =IF(AND(P11>=#REF!,P11<=#REF!),"Да","Нет") -> #REF!
Q12: =IF(AND(P12>=#REF!,P12<=#REF!),"Да","Нет") -> #REF!
Q13: =IF(AND(P13>=#REF!,P13<=#REF!),"Да","Нет") -> #REF!
Q14: =IF(AND(P14>=#REF!,P14<=#REF!),"Да","Нет") -> #REF!
Q15: =IF(AND(P15>=#REF!,P15<=#REF!),"Да","Нет") -> #REF!
... Q503: =IF(AND(P503>=#REF!,P503<=#REF!),"Да","Нет") -> #REF!

Sheet Печатная форма А4
A1: АКТ нейтрализации сточных вод/лабораторных растворов (подготовка к водоотведению)
A2: Организация:
A3: Подразделение/место образования: | D3: =Журнал!D4 -> 0
A4: Дата:
A5: Время:
A6: Исходный раствор (наименование и источник):
A7: Объём, л:
A8: pH до:
A9: Реагент нейтрализации:
A10: Количество реагента:
A11: Охлаждение применялось (Да/Нет):
A12: Метод (дозирование/перемешивание):
A13: Время нейтрализации, мин:
A14: pH после:
A15: Соответствие pH допустимому диапазону:
... A23: Подписи
A24: Исполнитель: | I24: ФИО:
A25: Контролёр: | I25: ФИО:
A27: Примечание:
A29: Примечание к форме: оформляется в рамках Правил № 644, ПП № 728; анализ проб – аккредитованная лаборатория; значения pH – в пределах локальных Правил приёма.

Sheet Свод_квартал
A1: Свод по кварталам (текущий год)
A2: Квартал | B2: Кол-во записей | C2: Суммарный объём, л | D2: Несоответствий pH (шт.) | E2: Наличие запрещённых веществ (шт.)
A3: Q1 | B3: =SUMPRODUCT(--(INT((MONTH(Журнал!$B4:B$10000)-1)/3)+1=1),--(YEAR(Журнал!$B4:B$10000)=YEAR(TODAY()))) -> 0 | C3: =SUMPRODUCT((Журнал!$G4:G$10000),--(INT((MONTH(Журнал!$B4:B$10000)-1)/3)+1=1),--(YEAR(Журнал!$B4:B$10000)=YEAR(TODAY()))) -> 0 | D3: =SUMPRODUCT(--(INT((MONTH(Журнал!$B4:B$10000)-1)/3)+1=1),--(YEAR(Журнал!$B4:B$10000)=YEAR(TODAY())),--(Журнал!$Q4:Q$10000="Нет")) -> #REF! | E3: =SUMPRODUCT(--(INT((MONTH(Журнал!$B4:B$10000)-1)/3)+1=1),--(YEAR(Журнал!$B4:B$10000)=YEAR(TODAY())),--(Журнал!$I4:I$10000="Да")) -> 0
A4: Q2 | B4: =SUMPRODUCT(--(INT((MONTH(Журнал!$B4:B$10000)-1)/3)+1=2),--(YEAR(Журнал!$B4:B$10000)=YEAR(TODAY()))) -> 0 | C4: =SUMPRODUCT((Журнал!$G4:G$10000),--(INT((MONTH(Журнал!$B4:B$10000)-1)/3)+1=2),--(YEAR(Журнал!$B4:B$10000)=YEAR(TODAY()))) -> 0 | D4: =SUMPRODUCT(--(INT((MONTH(Журнал!$B4:B$10000)-1)/3)+1=2),--(YEAR(Журнал!$B4:B$10000)=YEAR(TODAY())),--(Журнал!$Q4:Q$10000="Нет")) -> #REF! | E4: =SUMPRODUCT(--(INT((MONTH(Журнал!$B4:B$10000)-1)/3)+1=2),--(YEAR(Журнал!$B4:B$10000)=YEAR(TODAY())),--(Журнал!$I4:I$10000="Да")) -> 0
A5: Q3 | B5: =SUMPRODUCT(--(INT((MONTH(Журнал!$B4:B$10000)-1)/3)+1=3),--(YEAR(Журнал!$B4:B$10000)=YEAR(TODAY()))) -> 0 | C5: =SUMPRODUCT((Журнал!$G4:G$10000),--(INT((MONTH(Журнал!$B4:B$10000)-1)/3)+1=3),--(YEAR(Журнал!$B4:B$10000)=YEAR(TODAY()))) -> 0 | D5: =SUMPRODUCT(--(INT((MONTH(Журнал!$B4:B$10000)-1)/3)+1=3),--(YEAR(Журнал!$B4:B$10000)=YEAR(TODAY())),--(Журнал!$Q4:Q$10000="Нет")) -> #REF! | E5: =SUMPRODUCT(--(INT((MONTH(Журнал!$B4:B$10000)-1)/3)+1=3),--(YEAR(Журнал!$B4:B$10000)=YEAR(TODAY())),--(Журнал!$I4:I$10000="Да")) -> 0
A6: Q4 | B6: =SUMPRODUCT(--(INT((MONTH(Журнал!$B4:B$10000)-1)/3)+1=4),--(YEAR(Журнал!$B4:B$10000)=YEAR(TODAY()))) -> 0 | C6: =SUMPRODUCT((Журнал!$G4:G$10000),--(INT((MONTH(Журнал!$B4:B$10000)-1)/3)+1=4),--(YEAR(Журнал!$B4:B$10000)=YEAR(TODAY()))) -> 0 | D6: =SUMPRODUCT(--(INT((MONTH(Журнал!$B4:B$10000)-1)/3)+1=4),--(YEAR(Журнал!$B4:B$10000)=YEAR(TODAY())),--(Журнал!$Q4:Q$10000="Нет")) -> #REF! | E6: =SUMPRODUCT(--(INT((MONTH(Журнал!$B4:B$10000)-1)/3)+1=4),--(YEAR(Журнал!$B4:B$10000)=YEAR(TODAY())),--(Журнал!$I4:I$10000="Да")) -> 0

Sheet Образец
A1: Пример заполнения (фиктивные данные)
A2: № п/п | B2: Дата | C2: Время | D2: Подразделение / место образования | E2: Исходный раствор: наименование и источник процесса | F2: Код ФККО (если применимо) | G2: Объём, л | H2: pH до | I2: Запрещённые вещества (Да/Нет) | J2: Перечень запрещённых веществ (если есть) | K2: Реагент нейтрализации | L2: Количество реагента (ед.) | M2: Охлаждение применялось (Да/Нет) | N2: Метод (дозирование/перемешивание и пр.) | O2: Время нейтрализации, мин | P2: pH после | Q2: Соответствие pH (Да/Нет) | R2: Точка сброса/узел контроля | S2: Договор водоотведения (№, дата) | T2: Номер пробы | U2: Протокол анализа (№, дата, ИЛ) | V2: Исполнитель (ФИО) | W2: Контролёр/ответственный (ФИО) | X2: Подпись исполнителя | Y2: Подпись контролёра | Z2: Примечание
A3: 1 | B3: 09.10.2025 | C3: 10:35 | D3: Лаб. №2 / травление | E3: Промывочная вода после травления (без тяжёлых металлов) | F3: 4 51 101 00 20 5 | G3: 15 | H3: 2.3 | I3: Нет | K3: Na2CO3 | L3: 0,45 кг | M3: Да | N3: Дозирование порциями, интенсивное перемешивание, охлаждение | O3: 20 | P3: 7.2 | Q3: Да | R3: Колодец К-1 | S3: №123/25 от 01.01.2025 | T3: П-45/25 | U3: № 567/25 от 10.10.2025, ИЛ «Экоконтроль» | V3: Иванов И.И. | W3: Петров П.П. | Z3: Повторная проверка pH через 10 мин – ОК
